BEGIN:VCALENDAR
PRODID:NingEventWidget-v1
VERSION:2.0
METHOD:PUBLISH
BEGIN:VTIMEZONE
TZID:America/Boise
X-LIC-LOCATION:America/Boise
BEGIN:DAYLIGHT
TZOFFSETFROM:-0700
TZOFFSETTO:-0600
TZNAME:MDT
DTSTART:19700308T020000
RRULE:FREQ=YEARLY;BYMONTH=3;BYDAY=2SU
END:DAYLIGHT
BEGIN:STANDARD
TZOFFSETFROM:-0600
TZOFFSETTO:-0700
TZNAME:MST
DTSTART:19701101T020000
RRULE:FREQ=YEARLY;BYMONTH=11;BYDAY=1SU
END:STANDARD
END:VTIMEZONE
BEGIN:VEVENT
UID:6466512:Event:9116
DTSTAMP:20260424T184848Z
SUMMARY:One of the Reasons Attestations Fail
DESCRIPTION:RSVP Top Right for Meeting Details\nDate: Thursday. July 1
 7 2014\nTime 10AM PST/1PM EST\nA recent keynote predicted 80% of hospi
 tals will fail stage 2 attestation.  There are obviously many factors
  that con contribute to such a failure but I am passionate that the ed
 ucational efforts for our implementations are partly to blame for miss
 ed goals.  Don’t miss this informative webinar that will highlight 
 reasons our education for EHR implementations often fail.\n\nFor more 
 information visit https://mckessonsocial.ning.com/events/one-of-the-re
 asons-attestations-fail
DTSTART;TZID=America/Boise:20140717T130000
DTEND;TZID=America/Boise:20140717T140000
CATEGORIES:sedona
LOCATION:RSVP for registration details
WEBSITE:
URL:
CONTACT:
ORGANIZER:Sedona
ATTACH;FMTTYPE="image/jpeg":http://storage.ning.com/topology/rest/1.0/
 file/get/1131478773?profile=original
ATTENDEE;ROLE=REQ-PARTICIPANT;PARTSTAT=ACCEPTED;RSVP=TRUE;CN="McKesson
  Social":https://mckessonsocial.ning.com/profile/1yoo77s6wb36d
END:VEVENT
END:VCALENDAR
